BEGIN:VCALENDAR
VERSION:2.0
PRODID:-//Sports Tourism News - ECPv6.15.13//NONSGML v1.0//EN
CALSCALE:GREGORIAN
METHOD:PUBLISH
X-WR-CALNAME:Sports Tourism News
X-ORIGINAL-URL:https://www.sportstourismnews.com
X-WR-CALDESC:Events for Sports Tourism News
REFRESH-INTERVAL;VALUE=DURATION:PT1H
X-Robots-Tag:noindex
X-PUBLISHED-TTL:PT1H
BEGIN:VTIMEZONE
TZID:Europe/London
BEGIN:DAYLIGHT
TZOFFSETFROM:+0000
TZOFFSETTO:+0100
TZNAME:BST
DTSTART:20200329T010000
END:DAYLIGHT
BEGIN:STANDARD
TZOFFSETFROM:+0100
TZOFFSETTO:+0000
TZNAME:GMT
DTSTART:20201025T010000
END:STANDARD
BEGIN:DAYLIGHT
TZOFFSETFROM:+0000
TZOFFSETTO:+0100
TZNAME:BST
DTSTART:20210328T010000
END:DAYLIGHT
BEGIN:STANDARD
TZOFFSETFROM:+0100
TZOFFSETTO:+0000
TZNAME:GMT
DTSTART:20211031T010000
END:STANDARD
BEGIN:DAYLIGHT
TZOFFSETFROM:+0000
TZOFFSETTO:+0100
TZNAME:BST
DTSTART:20220327T010000
END:DAYLIGHT
BEGIN:STANDARD
TZOFFSETFROM:+0100
TZOFFSETTO:+0000
TZNAME:GMT
DTSTART:20221030T010000
END:STANDARD
END:VTIMEZONE
BEGIN:VEVENT
DTSTART;VALUE=DATE:20210921
DTEND;VALUE=DATE:20210923
DTSTAMP:20260423T120757
CREATED:20210830T143839Z
LAST-MODIFIED:20210830T144020Z
UID:6046-1632182400-1632355199@www.sportstourismnews.com
SUMMARY:Active London 2021
DESCRIPTION:Organised by London Sport under the theme: “The future of physical activity and sport in the nation’s capital”. Online event from 21-22 September 2021. Website: londonsport.org
URL:https://www.sportstourismnews.com/events/active-london-2021/
CATEGORIES:Fitness & Wellbeing,Sports business
END:VEVENT
END:VCALENDAR