BEGIN:VCALENDAR
VERSION:2.0
PRODID:-//Sports Tourism News - ECPv6.15.13//NONSGML v1.0//EN
CALSCALE:GREGORIAN
METHOD:PUBLISH
X-ORIGINAL-URL:https://www.sportstourismnews.com
X-WR-CALDESC:Events for Sports Tourism News
REFRESH-INTERVAL;VALUE=DURATION:PT1H
X-Robots-Tag:noindex
X-PUBLISHED-TTL:PT1H
BEGIN:VTIMEZONE
TZID:Europe/London
BEGIN:DAYLIGHT
TZOFFSETFROM:+0000
TZOFFSETTO:+0100
TZNAME:BST
DTSTART:20210328T010000
END:DAYLIGHT
BEGIN:STANDARD
TZOFFSETFROM:+0100
TZOFFSETTO:+0000
TZNAME:GMT
DTSTART:20211031T010000
END:STANDARD
BEGIN:DAYLIGHT
TZOFFSETFROM:+0000
TZOFFSETTO:+0100
TZNAME:BST
DTSTART:20220327T010000
END:DAYLIGHT
BEGIN:STANDARD
TZOFFSETFROM:+0100
TZOFFSETTO:+0000
TZNAME:GMT
DTSTART:20221030T010000
END:STANDARD
BEGIN:DAYLIGHT
TZOFFSETFROM:+0000
TZOFFSETTO:+0100
TZNAME:BST
DTSTART:20230326T010000
END:DAYLIGHT
BEGIN:STANDARD
TZOFFSETFROM:+0100
TZOFFSETTO:+0000
TZNAME:GMT
DTSTART:20231029T010000
END:STANDARD
END:VTIMEZONE
BEGIN:VEVENT
DTSTART;VALUE=DATE:20220205
DTEND;VALUE=DATE:20220207
DTSTAMP:20260424T011620
CREATED:20211111T103611Z
LAST-MODIFIED:20211111T111252Z
UID:7293-1644019200-1644191999@www.sportstourismnews.com
SUMMARY:Vitality Netball Superleague Season Opener 2022 
DESCRIPTION:The season opener double-header at Birmingham’s Resort World Arena will see all 11 clubs feature in a weekend of ten games of netball.  Tickets: theticketfactory.com
URL:https://www.sportstourismnews.com/events/vitality-netball-superleague-season-opener-2022/
LOCATION:Resort World Arena\, Perimeter Road\, Birmingham\, B40 1NT\, United Kingdom
CATEGORIES:2022 sports events,Netball
END:VEVENT
END:VCALENDAR