BEGIN:VCALENDAR
VERSION:2.0
PRODID:-//Sports Tourism News - ECPv6.15.13//NONSGML v1.0//EN
CALSCALE:GREGORIAN
METHOD:PUBLISH
X-ORIGINAL-URL:https://www.sportstourismnews.com
X-WR-CALDESC:Events for Sports Tourism News
REFRESH-INTERVAL;VALUE=DURATION:PT1H
X-Robots-Tag:noindex
X-PUBLISHED-TTL:PT1H
BEGIN:VTIMEZONE
TZID:Europe/London
BEGIN:DAYLIGHT
TZOFFSETFROM:+0000
TZOFFSETTO:+0100
TZNAME:BST
DTSTART:20200329T010000
END:DAYLIGHT
BEGIN:STANDARD
TZOFFSETFROM:+0100
TZOFFSETTO:+0000
TZNAME:GMT
DTSTART:20201025T010000
END:STANDARD
BEGIN:DAYLIGHT
TZOFFSETFROM:+0000
TZOFFSETTO:+0100
TZNAME:BST
DTSTART:20210328T010000
END:DAYLIGHT
BEGIN:STANDARD
TZOFFSETFROM:+0100
TZOFFSETTO:+0000
TZNAME:GMT
DTSTART:20211031T010000
END:STANDARD
BEGIN:DAYLIGHT
TZOFFSETFROM:+0000
TZOFFSETTO:+0100
TZNAME:BST
DTSTART:20220327T010000
END:DAYLIGHT
BEGIN:STANDARD
TZOFFSETFROM:+0100
TZOFFSETTO:+0000
TZNAME:GMT
DTSTART:20221030T010000
END:STANDARD
END:VTIMEZONE
BEGIN:VEVENT
DTSTART;VALUE=DATE:20210917
DTEND;VALUE=DATE:20210918
DTSTAMP:20260420T192050
CREATED:20210902T115024Z
LAST-MODIFIED:20210902T115024Z
UID:6281-1631836800-1631923199@www.sportstourismnews.com
SUMMARY:2021 DXB Snow Run at Ski Dubai
DESCRIPTION:Following the success of the first DXB Snow Run in 2020\, the Dubai Sports Council and Majid Al Futtaim have confirmed that second edition of the event will take place on the slopes of Ski Dubai at the Mall of the Emirates\, in -4C\, on Friday 17 September 2021. \nRegistration for the 2nd DXB Snow Run is open now\, and men and women of all nationalities aged 16 and above can participate. This year\, the organisers have added a second 5km category to the original 3km run and those interested can register through the PremierOnline website. \nThe inaugural Snow Run\, organised as part of Dubai Sports Council and Ski Dubai’s “DXB Snow Week”\, attracted participants from 46 different nations. Buti Al Nuaimi of the UAE topped the timesheet in the men’s category\, while Pia Hansske of Germany was fastest among the ladies. \nSki Dubai has hosted a number of sports events in recent months\, including the world’s first indoor edition of Red Bull Jump & Freeze on 9 July. It is going to be a busy venue this year with more than 10 events scheduled to take place at the venue\, including national and international tournaments like the UAE Alpine Ski Championship\, UAE National Ski and Snowboard Freestyle Championship and the 12th edition of Ice Warrior Challenge.
URL:https://www.sportstourismnews.com/events/2021-dxb-snow-run-at-ski-dubai/
LOCATION:Ski Dubai\, Mall of the Emirates\, Dubai\, United Arab Emirates
CATEGORIES:2021 sports events,Running,Winter sports
END:VEVENT
END:VCALENDAR