BEGIN:VCALENDAR
VERSION:2.0
PRODID:-//Sports Tourism News - ECPv6.15.13//NONSGML v1.0//EN
CALSCALE:GREGORIAN
METHOD:PUBLISH
X-ORIGINAL-URL:https://www.sportstourismnews.com
X-WR-CALDESC:Events for Sports Tourism News
REFRESH-INTERVAL;VALUE=DURATION:PT1H
X-Robots-Tag:noindex
X-PUBLISHED-TTL:PT1H
BEGIN:VTIMEZONE
TZID:Europe/London
BEGIN:DAYLIGHT
TZOFFSETFROM:+0000
TZOFFSETTO:+0100
TZNAME:BST
DTSTART:20200329T010000
END:DAYLIGHT
BEGIN:STANDARD
TZOFFSETFROM:+0100
TZOFFSETTO:+0000
TZNAME:GMT
DTSTART:20201025T010000
END:STANDARD
BEGIN:DAYLIGHT
TZOFFSETFROM:+0000
TZOFFSETTO:+0100
TZNAME:BST
DTSTART:20210328T010000
END:DAYLIGHT
BEGIN:STANDARD
TZOFFSETFROM:+0100
TZOFFSETTO:+0000
TZNAME:GMT
DTSTART:20211031T010000
END:STANDARD
BEGIN:DAYLIGHT
TZOFFSETFROM:+0000
TZOFFSETTO:+0100
TZNAME:BST
DTSTART:20220327T010000
END:DAYLIGHT
BEGIN:STANDARD
TZOFFSETFROM:+0100
TZOFFSETTO:+0000
TZNAME:GMT
DTSTART:20221030T010000
END:STANDARD
END:VTIMEZONE
BEGIN:VEVENT
DTSTART;VALUE=DATE:20210905
DTEND;VALUE=DATE:20210906
DTSTAMP:20260423T153211
CREATED:20210830T064858Z
LAST-MODIFIED:20210830T134602Z
UID:5899-1630800000-1630886399@www.sportstourismnews.com
SUMMARY:Super League Triathlon 2021 Championship Series - London
DESCRIPTION:Super League Triathlon’s 2021 championship gets under way on 5 September with the opening event of the series in London. \nFollowing the championship opener in the UK capital\, the swim-bike-run series will continue with back-to-back events in Munich\, Jersey and Malibu\, which will crown the fastest triathletes in the world. \nRead more about the Super League Triathlon 2021 championship series here \n \n 
URL:https://www.sportstourismnews.com/events/super-league-triathlon-2021-championship-series-london/
LOCATION:London\, London\, United Kingdom
CATEGORIES:2021 sports events,Triathlon
END:VEVENT
BEGIN:VEVENT
DTSTART;VALUE=DATE:20210912
DTEND;VALUE=DATE:20210913
DTSTAMP:20260423T153211
CREATED:20210830T121544Z
LAST-MODIFIED:20210830T134511Z
UID:5966-1631404800-1631491199@www.sportstourismnews.com
SUMMARY:Super League Triathlon 2021 Championship Series - Munich
DESCRIPTION:On 12 September 2021 in Munich\, Germany. Read more here
URL:https://www.sportstourismnews.com/events/super-league-triathlon-2021-championship-series-munich/
LOCATION:Munich\, Munich\, Germany
CATEGORIES:2021 sports events,Triathlon
END:VEVENT
BEGIN:VEVENT
DTSTART;VALUE=DATE:20210918
DTEND;VALUE=DATE:20210919
DTSTAMP:20260423T153211
CREATED:20210830T122433Z
LAST-MODIFIED:20210830T134439Z
UID:5975-1631923200-1632009599@www.sportstourismnews.com
SUMMARY:Super League Triathlon 2021 Championship Series - Jersey
DESCRIPTION:On 18 September 2021 in Jersey\, Channel Islands. \nRead more here: sportstourismnews.com
URL:https://www.sportstourismnews.com/events/super-league-triathlon-2021-championship-series-jersey/
LOCATION:Jersey\, Channel Islands
CATEGORIES:2021 sports events,Triathlon
END:VEVENT
BEGIN:VEVENT
DTSTART;VALUE=DATE:20210925
DTEND;VALUE=DATE:20210926
DTSTAMP:20260423T153211
CREATED:20210830T133516Z
LAST-MODIFIED:20210830T133955Z
UID:6010-1632528000-1632614399@www.sportstourismnews.com
SUMMARY:Super League Triathlon 2021 Championship Series - Malibu
DESCRIPTION:Super League Triathlon 2021 Championship Series in Malibu\, USA\, on 25 September 2021. \nRead more here: sportstourismnews.com
URL:https://www.sportstourismnews.com/events/super-league-triathlon-2021-championship-series-malibu/
LOCATION:Malibu\, Los Angeles\, CA\, United States
CATEGORIES:2021 sports events,Triathlon
END:VEVENT
END:VCALENDAR